BEGIN:VCALENDAR
PRODID:-//github.com/rianjs/ical.net//NONSGML ical.net 4.0//EN
VERSION:2.0
BEGIN:VEVENT
DESCRIPTION:Diese Freitagstouren werden von verschiedenen Tourguides in mi
 ttlerem Tempo (15-17 km/h) angeboten und dauern ca. 2-3 Stunden. VORAUSSE
 TZUNG: Anmeldung und Spaß am gemeinsamen Fahrradfahren.\nhttps://touren-t
 ermine.adfc.de/radveranstaltung/191284-feierabendtour
DTEND:20260626T190000Z
DTSTAMP:20260423T002447Z
DTSTART:20260626T160000Z
LOCATION:Neuenhausplatz 24\, 40699 Erkrath
SEQUENCE:0
SUMMARY:Feierabendtour
UID:cc0edcb0-f2a9-405c-918f-565d3046be73
URL:https://touren-termine.adfc.de/radveranstaltung/191284-feierabendtour
END:VEVENT
END:VCALENDAR
