BEGIN:VCALENDAR
PRODID:-//github.com/rianjs/ical.net//NONSGML ical.net 4.0//EN
VERSION:2.0
BEGIN:VEVENT
DESCRIPTION:Es geht zum Patershäuser Hof\, wir besichtigen die Altstadt vo
 n Heusenstamm und kehren im ALTEN BAHNHOF HEUSENSTAMM ein. Anmeldung notw
 endig.\nhttps://touren-termine.adfc.de/radveranstaltung/144544-tour-nach-
 heusenstamm
DTEND:20250302T150000Z
DTSTAMP:20260423T191104Z
DTSTART:20250302T090000Z
LOCATION:Lindenplatz\, 63303 Sprendlingen
SEQUENCE:0
SUMMARY:Tour nach Heusenstamm
UID:876844ce-8ae9-44b5-92f1-2e674c935e99
URL:https://touren-termine.adfc.de/radveranstaltung/144544-tour-nach-heuse
 nstamm
END:VEVENT
END:VCALENDAR
