BEGIN:VCALENDAR
PRODID:-//github.com/rianjs/ical.net//NONSGML ical.net 4.0//EN
VERSION:2.0
BEGIN:VEVENT
DESCRIPTION:Die Arbeitsgruppe Verkehr des ADFC setzt sich für eine sichere
  und attraktive Fahrradinfrastruktur ein. Wir arbeiten eng mit Kommunen u
 nd Behörden zusammen\, um Radwege zu verbessern und den Fahrradver\nhttps
 ://touren-termine.adfc.de/radveranstaltung/165014-ag-verkehr
DTEND:20250512T183000Z
DTSTAMP:20260420T150253Z
DTSTART:20250512T170000Z
LOCATION:Alsenstraße 27\, 44789 Bochum
SEQUENCE:0
SUMMARY:AG Verkehr
UID:fa5616ca-5ccb-4896-8cad-a1353a90c066
URL:https://touren-termine.adfc.de/radveranstaltung/165014-ag-verkehr
END:VEVENT
END:VCALENDAR
