BEGIN:VCALENDAR
PRODID:-//github.com/rianjs/ical.net//NONSGML ical.net 4.0//EN
VERSION:2.0
BEGIN:VEVENT
DESCRIPTION:Wir helfen und geben Tipps zur Reparatur\, Pflege und Wartung 
 eurer Fahrräder\nhttps://touren-termine.adfc.de/radveranstaltung/103052-r
 adreparaturcafe
DTEND:20230708T130000Z
DTSTAMP:20260421T221912Z
DTSTART:20230708T090000Z
LOCATION:WIWOZU\, Südring 23\, 45525 Hattingen
SEQUENCE:0
SUMMARY:RadReparaturCafé
UID:edb8bcc9-137d-4fcf-85aa-096d8a055165
URL:https://touren-termine.adfc.de/radveranstaltung/103052-radreparaturcafe
END:VEVENT
END:VCALENDAR
