BEGIN:VCALENDAR
PRODID:-//github.com/rianjs/ical.net//NONSGML ical.net 4.0//EN
VERSION:2.0
BEGIN:VEVENT
DESCRIPTION:Es werden Themen rund ums Rad (Radtouren\, Verkehrspolitik ode
 r auch Technik) besprochen. Gäste sind herzlich willkommen.\nhttps://tour
 en-termine.adfc.de/radveranstaltung/139291-monatliches-treffen-oktober-th
 aers-wirtshaus
DTEND:20241009T193000Z
DTSTAMP:20260421T151703Z
DTSTART:20241009T163000Z
LOCATION:Thaerplatz 1\, 29221 Celle
SEQUENCE:0
SUMMARY:Monatliches Treffen\, Oktober (Thaers Wirtshaus)
UID:d92aa2ea-2965-401e-9b29-cbfb833c3452
URL:https://touren-termine.adfc.de/radveranstaltung/139291-monatliches-tre
 ffen-oktober-thaers-wirtshaus
END:VEVENT
END:VCALENDAR
