BEGIN:VCALENDAR
PRODID:-//github.com/rianjs/ical.net//NONSGML ical.net 4.0//EN
VERSION:2.0
BEGIN:VEVENT
DESCRIPTION:Wir laden herzlich zu unserer jährlichen Mitgliederversammlung
  ein\nhttps://touren-termine.adfc.de/radveranstaltung/147847-mitgliederve
 rsammlung-2025-des-adfc-essen
DTEND:20250329T170000Z
DTSTAMP:20260421T101944Z
DTSTART:20250329T140000Z
LOCATION:Essen (Innenstadt)\, ADFC Essen Geschäftsstelle\, Rottstraße 5\, 
 45127 Essen
SEQUENCE:0
SUMMARY:Mitgliederversammlung 2025 des ADFC Essen
UID:c1482a6f-d2a4-4059-bb98-b568102722fa
URL:https://touren-termine.adfc.de/radveranstaltung/147847-mitgliederversa
 mmlung-2025-des-adfc-essen
END:VEVENT
END:VCALENDAR
