BEGIN:VCALENDAR
PRODID:-//github.com/rianjs/ical.net//NONSGML ical.net 4.0//EN
VERSION:2.0
BEGIN:VEVENT
DESCRIPTION:Tour zum Früchtehof Graue\nhttps://touren-termine.adfc.de/radv
 eranstaltung/141649-tour-zum-fruchtehof-graue
DTEND:20250601T150000Z
DTSTAMP:20260422T204532Z
DTSTART:20250601T090000Z
LOCATION:Vinckestraße 1 ADFC-Büro\, 32423 Minden
SEQUENCE:0
SUMMARY:Tour zum Früchtehof Graue
UID:665c0ffa-ed25-4a7b-81dd-d1d91b87c6cb
URL:https://touren-termine.adfc.de/radveranstaltung/141649-tour-zum-frucht
 ehof-graue
END:VEVENT
END:VCALENDAR
