BEGIN:VCALENDAR
PRODID:-//github.com/rianjs/ical.net//NONSGML ical.net 4.0//EN
VERSION:2.0
BEGIN:VEVENT
DESCRIPTION:Unmittelbar vor dem Film-/Bildervortrag „Vom Allgäu nach Santi
 ago de Compostela und „Ans Ende der Welt“ kann der Wünschewagen Allgäu/Sc
 hwaben besichtigt werden.\nhttps://touren-termine.adfc.de/radveranstaltun
 g/122832-besichtigung-des-wunschewagens-allgauschwaben
DTEND:20240226T180000Z
DTSTAMP:20260424T152231Z
DTSTART:20240226T173000Z
LOCATION:Oberdorfer Bahnhofstraße 7\, 87448 Landkreis Oberallgäu
SEQUENCE:0
SUMMARY:Besichtigung des Wünschewagens Allgäu/Schwaben
UID:0adb4073-3e60-411f-a7f0-377465bfafcb
URL:https://touren-termine.adfc.de/radveranstaltung/122832-besichtigung-de
 s-wunschewagens-allgauschwaben
END:VEVENT
END:VCALENDAR
