BEGIN:VCALENDAR
PRODID:-//github.com/rianjs/ical.net//NONSGML ical.net 4.0//EN
VERSION:2.0
BEGIN:VEVENT
DESCRIPTION:Dienstags & Donnerstags zwischen 18:00 und 20:00 Uhr kann dort
  jeder\, sein Fahrrad eigenverantwortlich selbst reparieren - wenn nötig 
 unter Anleitung oder Mithilfe unsere Werkstattteams\nhttps://touren-termi
 ne.adfc.de/radveranstaltung/90913-selbsthilfewerkstatt-ist-geoffnet
DTEND:20230725T180000Z
DTSTAMP:20260424T152735Z
DTSTART:20230725T160000Z
LOCATION:Weinweg 6\, 93049 Regensburg
SEQUENCE:0
SUMMARY:Selbsthilfewerkstatt ist geöffnet
UID:58cd180f-58b8-48d6-806a-82f7978a914e
URL:https://touren-termine.adfc.de/radveranstaltung/90913-selbsthilfewerks
 tatt-ist-geoffnet
END:VEVENT
END:VCALENDAR
