BEGIN:VCALENDAR
PRODID:-//github.com/rianjs/ical.net//NONSGML ical.net 4.0//EN
VERSION:2.0
BEGIN:VEVENT
DESCRIPTION:Der Radlertreff ist das Angebot an unsere Solinger Mitglieder 
 und ihre Freunde mit uns und interessanten Ansprechpartnern ins Gespräch 
 zu kommen.\nhttps://touren-termine.adfc.de/radveranstaltung/108319-radler
 treff-solingen-nov-biostation-zu-gast
DTEND:20231107T200000Z
DTSTAMP:20260421T172615Z
DTSTART:20231107T183000Z
LOCATION:Locher Straße 17\, 42719 Solingen
SEQUENCE:0
SUMMARY:Radlertreff Solingen - Nov.: Biostation zu Gast
UID:ebbf2763-5c54-4d13-9067-386cd6694004
URL:https://touren-termine.adfc.de/radveranstaltung/108319-radlertreff-sol
 ingen-nov-biostation-zu-gast
END:VEVENT
END:VCALENDAR
