BEGIN:VCALENDAR
PRODID:-//github.com/rianjs/ical.net//NONSGML ical.net 4.0//EN
VERSION:2.0
BEGIN:VEVENT
DESCRIPTION:Niemand ist perfekt\, das Radwegesystem in Cuxhaven schon gar 
 nicht!\nWir unterhalten uns über alle Dinge rund ums Fahrrad und nehmen W
 ünsche und Anregungen an.\nhttps://touren-termine.adfc.de/radveranstaltun
 g/142257-kaffeestunde
DTEND:20250707T150000Z
DTSTAMP:20260421T022703Z
DTSTART:20250707T130000Z
LOCATION:Bürgerbahnhof\, Am Bahnhof 1\, 27472 Cuxhaven
SEQUENCE:0
SUMMARY:Kaffeestunde
UID:d0d97c3d-f78c-4e8e-8b86-efe46792f17c
URL:https://touren-termine.adfc.de/radveranstaltung/142257-kaffeestunde
END:VEVENT
END:VCALENDAR
