BEGIN:VCALENDAR
PRODID:-//github.com/rianjs/ical.net//NONSGML ical.net 4.0//EN
VERSION:2.0
BEGIN:VEVENT
DESCRIPTION:Wir setzen uns für die Interessen der Radfahrenden und den Aus
 bau einer leistungsfähigen Fahrradinfrastruktur im Bezirk ein. Treffen: j
 eder erste Donnerstag im Monat.\nhttps://touren-termine.adfc.de/radverans
 taltung/180548-treffen-der-stadtteilgruppe-steglitzzehlendorf
DTEND:20260604T190000Z
DTSTAMP:20260424T045912Z
DTSTART:20260604T170000Z
LOCATION:Nachbarschaftszentrum BENN\, Hindenburgdamm 89\, 12203 Berlin
SEQUENCE:0
SUMMARY:Treffen der Stadtteilgruppe Steglitz-Zehlendorf
UID:0defbbb2-453e-4a63-b303-efe6bfbab19d
URL:https://touren-termine.adfc.de/radveranstaltung/180548-treffen-der-sta
 dtteilgruppe-steglitzzehlendorf
END:VEVENT
END:VCALENDAR
