BEGIN:VCALENDAR
PRODID:-//github.com/rianjs/ical.net//NONSGML ical.net 4.0//EN
VERSION:2.0
BEGIN:VEVENT
DESCRIPTION:Unsere Geschäftsstelle ist für alle Anliegen und offenen Frage
 n geöffnet.\nhttps://touren-termine.adfc.de/radveranstaltung/147993-offnu
 ngszeit-unserer-geschaftsstelle
DTEND:20251031T170000Z
DTSTAMP:20260421T120704Z
DTSTART:20251031T150000Z
LOCATION:Essen (Innenstadt)\, ADFC Essen Geschäftsstelle\, Rottstraße 5\, 
 45127 Essen
SEQUENCE:0
SUMMARY:Öffnungszeit unserer Geschäftsstelle
UID:d930e7ed-26e6-40c5-82ed-64416c461a39
URL:https://touren-termine.adfc.de/radveranstaltung/147993-offnungszeit-un
 serer-geschaftsstelle
END:VEVENT
END:VCALENDAR
