BEGIN:VCALENDAR
PRODID:-//github.com/rianjs/ical.net//NONSGML ical.net 4.0//EN
VERSION:2.0
BEGIN:VEVENT
DESCRIPTION:30 - 35 km\nhttps://touren-termine.adfc.de/radveranstaltung/14
 2578-kurztour
DTEND:20250409T180000Z
DTSTAMP:20260423T183159Z
DTSTART:20250409T160000Z
LOCATION:Rathaus\, Fuhrberger Straße 3\, 30938 Burgwedel
SEQUENCE:0
SUMMARY:Kurztour
UID:c20a35ca-6681-4a10-b055-c4302f5ac929
URL:https://touren-termine.adfc.de/radveranstaltung/142578-kurztour
END:VEVENT
END:VCALENDAR
