BEGIN:VCALENDAR
PRODID:-//github.com/rianjs/ical.net//NONSGML ical.net 4.0//EN
VERSION:2.0
BEGIN:VEVENT
DESCRIPTION:Viele Waldwerge und kleine Straßen. Altenberg\, Vorspanneiche\
 , Gut Ahe\, Rothaarhütte\, Altenteich\, Edertal\, Forsthaus Hohenroth und
  Obernau. Einkehrmöglichkeiten. 65km und 1000hm. Ladegerät. Anmeldung.\nh
 ttps://touren-termine.adfc.de/radveranstaltung/175300-hohen-und-taler-im-
 nordlichen-siwi-pedelec
DTEND:20251108T170000Z
DTSTAMP:20260422T234656Z
DTSTART:20251108T100000Z
LOCATION:Marburgerstraße\, Roter Platz\, 57223 Kreuztal
SEQUENCE:0
SUMMARY:Höhen und Täler im nördlichen Si-Wi (Pedelec)
UID:298be2aa-0f02-4a03-9175-26401bd9826b
URL:https://touren-termine.adfc.de/radveranstaltung/175300-hohen-und-taler
 -im-nordlichen-siwi-pedelec
END:VEVENT
END:VCALENDAR
