BEGIN:VCALENDAR
PRODID:-//github.com/rianjs/ical.net//NONSGML ical.net 4.0//EN
VERSION:2.0
BEGIN:VEVENT
DESCRIPTION:Von Schorndorf im Wieslauftal bis Rudersberg\, weiter über All
 mersbach im Tal nach Winnenden und Neckarrems sowie schließlich am Neckar
  nach Bad Cannstatt\nhttps://touren-termine.adfc.de/radveranstaltung/1067
 80-von-schorndorf-nach-bad-cannstatt
DTEND:20231008T150000Z
DTSTAMP:20260424T144419Z
DTSTART:20231008T071000Z
LOCATION:Kegelenstraße 12\, 70372 Stuttgart
SEQUENCE:0
SUMMARY:Von Schorndorf nach Bad Cannstatt
UID:a1f1f10f-244d-4797-9ccf-18cbd77f86e1
URL:https://touren-termine.adfc.de/radveranstaltung/106780-von-schorndorf-
 nach-bad-cannstatt
END:VEVENT
END:VCALENDAR
