BEGIN:VCALENDAR
PRODID:-//github.com/rianjs/ical.net//NONSGML ical.net 4.0//EN
VERSION:2.0
BEGIN:VEVENT
DESCRIPTION:Freiheitsradtour - Bauernkrieg 1525. Sternfahrt - Unterallgäue
 r Radlertag immer am 15. August (ca. 500 Radler)\, 13.30 Uhr Andacht mit 
 Segnung der Fahrer und Fahrräder\n Anmeldung bis Di 12.08.2025.\nhttps://
 touren-termine.adfc.de/radveranstaltung/148646-nach-maria-baumgartle-zur-
 fahrradsegnung
DTEND;VALUE=DATE:20250815
DTSTAMP:20260425T184345Z
DTSTART;VALUE=DATE:20250815
LOCATION:Ottobeuren\, genauer Treffpunkt wird noch mitgeteilt\, 87724 Otto
 beuren
SEQUENCE:0
SUMMARY:Nach Maria Baumgärtle zur Fahrradsegnung
UID:8b679c35-3c7d-44c5-8171-48c5a33b0367
URL:https://touren-termine.adfc.de/radveranstaltung/148646-nach-maria-baum
 gartle-zur-fahrradsegnung
END:VEVENT
END:VCALENDAR
