BEGIN:VCALENDAR
PRODID:-//github.com/rianjs/ical.net//NONSGML ical.net 4.0//EN
VERSION:2.0
BEGIN:VEVENT
DESCRIPTION:Von der Donau an der Lauchert auf die Alb und an der Erms nach
  Metzingen\nhttps://touren-termine.adfc.de/radveranstaltung/160429-von-si
 gmaringen-nach-metzingen
DTEND:20250524T160000Z
DTSTAMP:20260424T143410Z
DTSTART:20250524T060000Z
LOCATION:Karoline-Kaulla-Weg\, 70173 Stuttgart
SEQUENCE:0
SUMMARY:Von Sigmaringen nach Metzingen
UID:e65bad65-66b3-4566-a9e7-6f9e00c0a68f
URL:https://touren-termine.adfc.de/radveranstaltung/160429-von-sigmaringen
 -nach-metzingen
END:VEVENT
END:VCALENDAR
