BEGIN:VCALENDAR
PRODID:-//github.com/rianjs/ical.net//NONSGML ical.net 4.0//EN
VERSION:2.0
BEGIN:VEVENT
DESCRIPTION:Wir beschäftigen uns mit der Verkehrsplanung im Bezirk Mitte u
 nd setzten uns dabei für den Radverkehr ein.\nhttps://touren-termine.adfc
 .de/radveranstaltung/126861-bezirksgruppe-mitte
DTEND:20240805T190000Z
DTSTAMP:20260420T230937Z
DTSTART:20240805T170000Z
LOCATION:Koppel 34-36\, 20099 Hamburg
SEQUENCE:0
SUMMARY:Bezirksgruppe Mitte
UID:d843ae7e-b4e5-4798-b706-00d59c3e1144
URL:https://touren-termine.adfc.de/radveranstaltung/126861-bezirksgruppe-m
 itte
END:VEVENT
END:VCALENDAR
