BEGIN:VCALENDAR
PRODID:-//github.com/rianjs/ical.net//NONSGML ical.net 4.0//EN
VERSION:2.0
BEGIN:VEVENT
DESCRIPTION:Feierabendtour in sportlichem Tempo mit Anstiegen. Wir fahren 
 ca. 2\,5 Stunden durch Wald und Feld. VORAUSSETZUNG: Anmeldung\, Spaß am 
 Fahrradfahren und gute Grundkondition.\nhttps://touren-termine.adfc.de/ra
 dveranstaltung/191301-sportliche-feierabendtour
DTEND:20260429T190000Z
DTSTAMP:20260423T005541Z
DTSTART:20260429T163000Z
LOCATION:Gerberstraße 7\, 40699 Erkrath
SEQUENCE:0
SUMMARY:Sportliche Feierabendtour
UID:ae6e8c59-c765-4698-baa5-0d4fa984a76e
URL:https://touren-termine.adfc.de/radveranstaltung/191301-sportliche-feie
 rabendtour
END:VEVENT
END:VCALENDAR
