BEGIN:VCALENDAR
PRODID:-//github.com/rianjs/ical.net//NONSGML ical.net 4.0//EN
VERSION:2.0
BEGIN:VEVENT
DESCRIPTION:Von Kreuztal über Rad- und Waldwege nach Jagdhaus.\nEinkehr mi
 t Lademöglichkeit im Schäferhof geplant.\nhttps://touren-termine.adfc.de/
 radveranstaltung/107079-ebike-tagestour-nach-jagdhaus-am-3009
DTEND:20230930T150000Z
DTSTAMP:20260422T234652Z
DTSTART:20230930T080000Z
LOCATION:Marburger Straße\, Roter Platz\, 57223 Kreuztal
SEQUENCE:0
SUMMARY:E-Bike -Tagestour nach Jagdhaus am 30.09.
UID:983e7cb6-d3e1-4bfb-826d-0d933c11031a
URL:https://touren-termine.adfc.de/radveranstaltung/107079-ebike-tagestour
 -nach-jagdhaus-am-3009
END:VEVENT
END:VCALENDAR
