BEGIN:VCALENDAR
PRODID:-//github.com/rianjs/ical.net//NONSGML ical.net 4.0//EN
VERSION:2.0
BEGIN:VEVENT
DESCRIPTION:Eine kleine Radtour zum Feierabend.\nhttps://touren-termine.ad
 fc.de/radveranstaltung/162500-feierabendtour
DTEND:20250826T173000Z
DTSTAMP:20260422T203012Z
DTSTART:20250826T150000Z
LOCATION:Kanzlers Weide 1\, 32423 Minden
SEQUENCE:0
SUMMARY:Feierabendtour
UID:412985de-0fa5-4ce1-b93b-fab88d4b528e
URL:https://touren-termine.adfc.de/radveranstaltung/162500-feierabendtour
END:VEVENT
END:VCALENDAR
