BEGIN:VCALENDAR
PRODID:-//github.com/rianjs/ical.net//NONSGML ical.net 4.0//EN
VERSION:2.0
BEGIN:VEVENT
DESCRIPTION:Radtour durch Leverkusen und Umgebung mit 20 max. Teilnehmern.
 \nAnmeldung erforderlich!\nhttps://touren-termine.adfc.de/radveranstaltun
 g/146034-vormittagsradtour-leverkusen
DTEND:20251104T120000Z
DTSTAMP:20260421T120705Z
DTSTART:20251104T090000Z
LOCATION:Tannenbergstraße\, unter der Stelzenautobahn\, 51373 Leverkusen
SEQUENCE:0
SUMMARY:Vormittagsradtour Leverkusen
UID:1e995d47-c663-470a-9bd3-e75c4ef93a3d
URL:https://touren-termine.adfc.de/radveranstaltung/146034-vormittagsradto
 ur-leverkusen
END:VEVENT
END:VCALENDAR
