BEGIN:VCALENDAR
PRODID:-//github.com/rianjs/ical.net//NONSGML ical.net 4.0//EN
VERSION:2.0
BEGIN:VEVENT
DESCRIPTION:Von Dreieich durch die Koberstadt nach Darmstadt-Eberstadt und
  weiter zum Restaurant Pfungstädter Brauereigasthof in Pfungstadt. 2. Tre
 ffpunkt Langen. Anmeldung notwendig.\nhttps://touren-termine.adfc.de/radv
 eranstaltung/122782-fahrt-nach-pfungstadt
DTEND:20240616T160000Z
DTSTAMP:20260423T192641Z
DTSTART:20240616T073000Z
LOCATION:Lindenplatz\, 63303 Sprendlingen
SEQUENCE:0
SUMMARY:Fahrt nach Pfungstadt
UID:60c85fe8-e9f4-473f-98a6-7c039b55fb3f
URL:https://touren-termine.adfc.de/radveranstaltung/122782-fahrt-nach-pfun
 gstadt
END:VEVENT
END:VCALENDAR
