BEGIN:VCALENDAR
PRODID:-//github.com/rianjs/ical.net//NONSGML ical.net 4.0//EN
VERSION:2.0
BEGIN:VEVENT
DESCRIPTION:Langfingern das Leben schwer machen! Während des verkaufsoffen
 en Sonntags können Sie Ihr Fahrrad codieren lassen.\nhttps://touren-termi
 ne.adfc.de/radveranstaltung/198227-fahrradcodierung-infostand
DTEND:20260426T150000Z
DTSTAMP:20260419T210832Z
DTSTART:20260426T110000Z
LOCATION:Neben Radsport Runge\, Rathausstraße 6\, 22941 Bargteheide
SEQUENCE:0
SUMMARY:Fahrrad-Codierung & Info-Stand
UID:02093953-94b5-4e15-b29f-8a78fc4dec2e
URL:https://touren-termine.adfc.de/radveranstaltung/198227-fahrradcodierun
 g-infostand
END:VEVENT
END:VCALENDAR
