BEGIN:VCALENDAR
PRODID:-//github.com/rianjs/ical.net//NONSGML ical.net 4.0//EN
VERSION:2.0
BEGIN:VEVENT
DESCRIPTION:Wir fahren zur MACH MIT! Woche – Besuch der Solawi Dramfeld – 
 gemeinsam ernten\, kochen\, essen. Eine gemeinsame Veranstaltung mit der 
 Öko-Modellregion Landkreis Göttingen.\nhttps://touren-termine.adfc.de/rad
 veranstaltung/198091-besuch-der-solawi-dramfeld
DTEND:20260509T160000Z
DTSTAMP:20260424T223949Z
DTSTART:20260509T103000Z
LOCATION:ADFC-Werkstatt\, Güterbahnhofstraße 9\, 37073 Göttingen
SEQUENCE:0
SUMMARY:Besuch der Solawi Dramfeld
UID:c1f582ed-a2da-4971-b74b-dc931ee5bda2
URL:https://touren-termine.adfc.de/radveranstaltung/198091-besuch-der-sola
 wi-dramfeld
END:VEVENT
END:VCALENDAR
