BEGIN:VCALENDAR
PRODID:-//github.com/rianjs/ical.net//NONSGML ical.net 4.0//EN
VERSION:2.0
BEGIN:VEVENT
DESCRIPTION:Das ADFC-Aktiventreffen bietet die Möglichkeit gemeinsam über 
 aktuelle Themen zu diskutieren\, Ideen auszutauschen und aktiv an unserer
  Vereinsarbeit teilzuhaben.\nhttps://touren-termine.adfc.de/radveranstalt
 ung/180995-adfcaktiventreffen
DTEND:20260311T200000Z
DTSTAMP:20260424T160527Z
DTSTART:20260311T180000Z
LOCATION:Kunstraum im Hundertwasser-Bahnhof\, Friedensreich-Hundertwasser-
 Platz 1\, 29525 Uelzen
SEQUENCE:0
SUMMARY:ADFC-Aktiventreffen
UID:549a09d3-8c7f-48ff-828f-4c70c865eb60
URL:https://touren-termine.adfc.de/radveranstaltung/180995-adfcaktiventref
 fen
END:VEVENT
END:VCALENDAR
