BEGIN:VCALENDAR
PRODID:-//github.com/rianjs/ical.net//NONSGML ical.net 4.0//EN
VERSION:2.0
BEGIN:VEVENT
DESCRIPTION:Unsere Geschäftsstelle ist für alle Anliegen und offenen Frage
 n geöffnet.\nhttps://touren-termine.adfc.de/radveranstaltung/147871-offnu
 ngszeit-unserer-geschaftsstelle
DTEND:20250327T170000Z
DTSTAMP:20260421T121323Z
DTSTART:20250327T150000Z
LOCATION:Essen (Innenstadt)\, ADFC Essen Geschäftsstelle\, Rottstraße 5\, 
 45127 Essen
SEQUENCE:0
SUMMARY:Öffnungszeit unserer Geschäftsstelle
UID:81ff1db4-d946-4953-8dd7-06d34949286e
URL:https://touren-termine.adfc.de/radveranstaltung/147871-offnungszeit-un
 serer-geschaftsstelle
END:VEVENT
END:VCALENDAR
