BEGIN:VCALENDAR
PRODID:-//github.com/rianjs/ical.net//NONSGML ical.net 4.0//EN
VERSION:2.0
BEGIN:VEVENT
DESCRIPTION:Mitzubringen sind das Fahrrad\, ein Personalausweis\nund der E
 igentumsnachweis. Kosten: 10€ (für ADFC-Mitglieder kostenlos).\nMehr Info
 s zur Fahrradcodierung siehe Link.\nAnmeldung erwünscht: 03641 774039\nht
 tps://touren-termine.adfc.de/radveranstaltung/135094-fahrradcodierung-im-
 spitzweidenweg-107-jena
DTEND:20240709T160000Z
DTSTAMP:20260424T153741Z
DTSTART:20240709T140000Z
LOCATION:Spitzweidenweg 107\, 07743 Jena
SEQUENCE:0
SUMMARY:Fahrradcodierung im Spitzweidenweg 107 (Jena)
UID:c5d7554c-d2ee-4f32-b68d-e165acf8b942
URL:https://touren-termine.adfc.de/radveranstaltung/135094-fahrradcodierun
 g-im-spitzweidenweg-107-jena
END:VEVENT
END:VCALENDAR
