BEGIN:VCALENDAR
PRODID:-//github.com/rianjs/ical.net//NONSGML ical.net 4.0//EN
VERSION:2.0
BEGIN:VEVENT
DESCRIPTION:Wir fahren von Großräschen nach Senftenberg. Zwischen den Seen
  und durch die Wälder.\nhttps://touren-termine.adfc.de/radveranstaltung/1
 30581-von-einem-zum-anderen-see-rund-um-senftenberg
DTEND:20240510T173000Z
DTSTAMP:20260421T233644Z
DTSTART:20240510T063000Z
LOCATION:Bhf. Berlin Ostkreuz\, Ringbahnsteig vor Mc-Donalds\, 10245 Berlin
SEQUENCE:0
SUMMARY:Von einem zum anderen See rund um Senftenberg
UID:17f4ae8d-6262-4cdf-872e-5fb0b01db16a
URL:https://touren-termine.adfc.de/radveranstaltung/130581-von-einem-zum-a
 nderen-see-rund-um-senftenberg
END:VEVENT
END:VCALENDAR
