BEGIN:VCALENDAR
PRODID:-//github.com/rianjs/ical.net//NONSGML ical.net 4.0//EN
VERSION:2.0
BEGIN:VEVENT
DESCRIPTION:Jeden Montag findet morgens eine Radtour statt.\nhttps://toure
 n-termine.adfc.de/radveranstaltung/145468-montag-morgen-tour
DTEND:20241223T110000Z
DTSTAMP:20260423T201624Z
DTSTART:20241223T090000Z
LOCATION:In der Ahe 29\, 27356 Rotenburg
SEQUENCE:0
SUMMARY:Montag Morgen Tour
UID:5d260393-1cba-431e-bda8-415465d1e4df
URL:https://touren-termine.adfc.de/radveranstaltung/145468-montag-morgen-t
 our
END:VEVENT
END:VCALENDAR
