BEGIN:VCALENDAR
PRODID:-//github.com/rianjs/ical.net//NONSGML ical.net 4.0//EN
VERSION:2.0
BEGIN:VEVENT
DESCRIPTION:Lerne den Jungen ADFC Berlin kennen! Komm zu unserem Onboardin
 g-Treffen und bring deine Ideen für eine junge\, fahrradfreundliche Stadt
  mit. Offen für alle Interessierten von 16 bis 26 Jahren!\nhttps://touren
 -termine.adfc.de/radveranstaltung/162375-onboarding-junger-adfc
DTEND:20250506T190000Z
DTSTAMP:20260420T114905Z
DTSTART:20250506T170000Z
LOCATION:Stadtwerkstatt\, Karl-Liebknecht-Straße 11 (1. OG)\, 10178 Berlin
SEQUENCE:0
SUMMARY:Onboarding Junger ADFC
UID:c3fc13d3-710f-4c48-87d9-25db2bf227ea
URL:https://touren-termine.adfc.de/radveranstaltung/162375-onboarding-jung
 er-adfc
END:VEVENT
END:VCALENDAR
