BEGIN:VCALENDAR
PRODID:-//github.com/rianjs/ical.net//NONSGML ical.net 4.0//EN
VERSION:2.0
BEGIN:VEVENT
DESCRIPTION:Die AGFK Bayern stellt bei der Roadshow verschiedene Lastenräd
 er zum Testen vor.\nhttps://touren-termine.adfc.de/radveranstaltung/10681
 9-agfk-lastenrad-roadshow
DTEND:20230918T150000Z
DTSTAMP:20260419T155628Z
DTSTART:20230918T100000Z
LOCATION:Hildegardplatz\, 87435 Kempten (Allgäu)
SEQUENCE:0
SUMMARY:AGFK Lastenrad Roadshow
UID:1d3e0a04-5268-45be-8f99-13b9fef8b2d1
URL:https://touren-termine.adfc.de/radveranstaltung/106819-agfk-lastenrad-
 roadshow
END:VEVENT
END:VCALENDAR
