BEGIN:VCALENDAR
PRODID:-//github.com/rianjs/ical.net//NONSGML ical.net 4.0//EN
VERSION:2.0
BEGIN:VEVENT
DESCRIPTION:Unsere Geschäftsstelle ist für alle Anliegen und offenen Frage
 n geöffnet.\nhttps://touren-termine.adfc.de/radveranstaltung/147974-offnu
 ngszeit-unserer-geschaftsstelle
DTEND:20250620T160000Z
DTSTAMP:20260421T121316Z
DTSTART:20250620T140000Z
LOCATION:Essen (Innenstadt)\, ADFC Essen Geschäftsstelle\, Rottstraße 5\, 
 45127 Essen
SEQUENCE:0
SUMMARY:Öffnungszeit unserer Geschäftsstelle
UID:d01262d3-b3eb-4f40-a0d1-f83306471501
URL:https://touren-termine.adfc.de/radveranstaltung/147974-offnungszeit-un
 serer-geschaftsstelle
END:VEVENT
END:VCALENDAR
