BEGIN:VCALENDAR
PRODID:-//github.com/rianjs/ical.net//NONSGML ical.net 4.0//EN
VERSION:2.0
BEGIN:VEVENT
DESCRIPTION:Radlertreff in entspannter Atmosphäre\nhttps://touren-termine.
 adfc.de/radveranstaltung/95417-afterwork
DTEND:20241016T200000Z
DTSTAMP:20260424T144541Z
DTSTART:20241016T163000Z
LOCATION:Silberburgstraße 84\, 70176 Stuttgart
SEQUENCE:0
SUMMARY:AfterWork
UID:47d156b7-6e97-405e-81d8-768d44d52b46
URL:https://touren-termine.adfc.de/radveranstaltung/95417-afterwork
END:VEVENT
END:VCALENDAR
