BEGIN:VCALENDAR
PRODID:-//github.com/rianjs/ical.net//NONSGML ical.net 4.0//EN
VERSION:2.0
BEGIN:VEVENT
DESCRIPTION:Mit freiwilliger Anmeldung! - Serie: Freitags-Radtour mit Mitt
 agsessen\, kostenfreiem Museumseintritt und abschließendem Kaffeetrinken\
 nhttps://touren-termine.adfc.de/radveranstaltung/158882-die-2-k3tour-kuli
 narik-kultur-kaffee-
DTEND:20250328T153000Z
DTSTAMP:20260424T173350Z
DTSTART:20250328T110000Z
LOCATION:Startpunkt zwischen Rathaus und Post. - Marktplatz 1\, 30853 Lang
 enhagen
SEQUENCE:0
SUMMARY:Die 2. K³-🚲-Tour: Kulinarik\, Kultur\, Kaffee ⓇⓈ
UID:9196638d-91f1-40ce-ad02-3ce4e0e5af26
URL:https://touren-termine.adfc.de/radveranstaltung/158882-die-2-k3tour-ku
 linarik-kultur-kaffee-
END:VEVENT
END:VCALENDAR
