BEGIN:VCALENDAR
PRODID:-//github.com/rianjs/ical.net//NONSGML ical.net 4.0//EN
VERSION:2.0
BEGIN:VEVENT
DESCRIPTION:Der Bezirksrat des ADFC Berlin e.V.  ist ein Gremium zur Koord
 inierung für die Tätigkeit der Stadtteilgruppen.\nhttps://touren-termine.
 adfc.de/radveranstaltung/189751-bezirksratssitzung
DTEND:20260827T190000Z
DTSTAMP:20260424T173211Z
DTSTART:20260827T170000Z
LOCATION:Stadtwerkstatt\, Karl-Liebknecht-Straße 11\, 10178 Berlin
SEQUENCE:0
SUMMARY:Bezirksratssitzung
UID:eead01cb-3526-41da-88c0-f414201eaa61
URL:https://touren-termine.adfc.de/radveranstaltung/189751-bezirksratssitz
 ung
END:VEVENT
END:VCALENDAR
