BEGIN:VCALENDAR
PRODID:-//github.com/rianjs/ical.net//NONSGML ical.net 4.0//EN
VERSION:2.0
BEGIN:VEVENT
DESCRIPTION:Dienstags & Donnerstags zwischen 18:00 und 20:00 Uhr kann dort
  jeder\, sein Fahrrad eigenverantwortlich selbst reparieren - wenn nötig 
 unter Anleitung oder Mithilfe unsere Werkstattteams\nhttps://touren-termi
 ne.adfc.de/radveranstaltung/155533-selbsthilfewerkstatt-ist-geoffnet
DTEND:20260214T180000Z
DTSTAMP:20260424T151819Z
DTSTART:20250520T160000Z
LOCATION:ADFC-Selbsthilfewerkstatt\, Weinweg 6\, 93049 Regensburg
SEQUENCE:0
SUMMARY:Selbsthilfewerkstatt ist geöffnet
UID:6cdc6787-441f-4a39-8975-b906cc64a9b9
URL:https://touren-termine.adfc.de/radveranstaltung/155533-selbsthilfewerk
 statt-ist-geoffnet
END:VEVENT
END:VCALENDAR
