BEGIN:VCALENDAR
PRODID:-//github.com/rianjs/ical.net//NONSGML ical.net 4.0//EN
VERSION:2.0
BEGIN:VEVENT
DESCRIPTION:Regelmäßige Tagestour mit Start in Gauting zu einem naturkundl
 ich\, historisch\, kunsthistorisch oder tagesaktuell interessanten Ziel i
 m Südwesten von München. \n Heute: Dachau und Kloster Fürstenfeld\nhttps:
 //touren-termine.adfc.de/radveranstaltung/154657-unterwegs-im-sudwesten
DTEND:20250911T150000Z
DTSTAMP:20260425T145515Z
DTSTART:20250911T080000Z
LOCATION:Rathaus\, Bahnhofstraße 7\, 82131 Gauting
SEQUENCE:0
SUMMARY:Unterwegs im Südwesten
UID:acdf9df7-b94a-49e6-a463-ce656e0ad032
URL:https://touren-termine.adfc.de/radveranstaltung/154657-unterwegs-im-su
 dwesten
END:VEVENT
END:VCALENDAR
