BEGIN:VCALENDAR
PRODID:-//github.com/rianjs/ical.net//NONSGML ical.net 4.0//EN
VERSION:2.0
BEGIN:VEVENT
DESCRIPTION:Der Radlertreff ist das Angebot an unsere Solinger Mitglieder 
 und ihre Freunde mit uns und interessanten Ansprechpartnern ins Gespräch 
 zu kommen.\nhttps://touren-termine.adfc.de/radveranstaltung/124534-radler
 treff-solingen-marz-2024-verkehrswacht
DTEND:20240305T200000Z
DTSTAMP:20260421T172615Z
DTSTART:20240305T183000Z
LOCATION:Locher Straße 17\, 42719 Solingen
SEQUENCE:0
SUMMARY:Radlertreff Solingen - März 2024 - Verkehrswacht
UID:3e11c19c-fbd9-4d69-90e5-2d6672c130bb
URL:https://touren-termine.adfc.de/radveranstaltung/124534-radlertreff-sol
 ingen-marz-2024-verkehrswacht
END:VEVENT
END:VCALENDAR
