BEGIN:VCALENDAR
PRODID:-//github.com/rianjs/ical.net//NONSGML ical.net 4.0//EN
VERSION:2.0
BEGIN:VEVENT
DESCRIPTION:Hier geht es hoch hinaus: Mit der Nordbahntrasse hat die Stadt
  Wuppertal vor 10 Jahren ein wegweisendes Verkehrs-Projekt eröffnet. Wir 
 fahren bis nach Wuppertal und mit dem Zug zurück.\nhttps://touren-termine
 .adfc.de/radveranstaltung/155885-tour-nach-wuppertal
DTEND:20250629T180000Z
DTSTAMP:20260421T235932Z
DTSTART:20250629T080000Z
LOCATION:Südenwall 19\, 59065 Hamm
SEQUENCE:0
SUMMARY:Tour nach Wuppertal
UID:1889ebb4-4935-468d-aa1f-ceb55c777f84
URL:https://touren-termine.adfc.de/radveranstaltung/155885-tour-nach-wuppe
 rtal
END:VEVENT
END:VCALENDAR
