BEGIN:VCALENDAR
PRODID:-//github.com/rianjs/ical.net//NONSGML ical.net 4.0//EN
VERSION:2.0
BEGIN:VEVENT
DESCRIPTION:Das Seminar vermittelt Inhalte aus den Modulen G2 und G3 zur V
 erlängerung des ADFC - TourGuide Zertifikats.\nEs findet in der Rotenburg
 er Jugendherberge statt. Die Kosten des Seminars betragen 45\,-- €.\nhttp
 s://touren-termine.adfc.de/radveranstaltung/156484-adfc-refreshkurs-mit-j
 org-kappmeier-kv-ohz
DTEND:20250426T160000Z
DTSTAMP:20260423T201220Z
DTSTART:20250426T070000Z
LOCATION:Verdener Straße 104\, 27356 Rotenburg
SEQUENCE:0
SUMMARY:ADFC Refresh-Kurs mit Jörg Kappmeier KV OHZ
UID:7c4f6690-a1b0-4414-91f4-ac12aabce1fd
URL:https://touren-termine.adfc.de/radveranstaltung/156484-adfc-refreshkur
 s-mit-jorg-kappmeier-kv-ohz
END:VEVENT
END:VCALENDAR
