BEGIN:VCALENDAR
PRODID:-//github.com/rianjs/ical.net//NONSGML ical.net 4.0//EN
VERSION:2.0
BEGIN:VEVENT
DESCRIPTION:Radfahren in Hattingen - wie gelingt der Ausbau der Radinfrast
 ruktur in Hattingen?\nhttps://touren-termine.adfc.de/radveranstaltung/188
 105-radfahren-in-hattingen
DTEND:20260416T170000Z
DTSTAMP:20260421T190543Z
DTSTART:20260416T150000Z
LOCATION:Bürgerzentrum Hattingen\, Gruppenraum 3\, 1. OG\, Talstraße 8\, 4
 5525 Hattingen
SEQUENCE:0
SUMMARY:Radfahren in Hattingen
UID:a7b568c9-59b9-42a7-8bb9-6ddb9fd78324
URL:https://touren-termine.adfc.de/radveranstaltung/188105-radfahren-in-ha
 ttingen
END:VEVENT
END:VCALENDAR
