BEGIN:VCALENDAR
PRODID:-//github.com/rianjs/ical.net//NONSGML ical.net 4.0//EN
VERSION:2.0
BEGIN:VEVENT
DESCRIPTION:Radtour von Ochtrup durch das NSG Rüenberger Venn\, vorbei am 
 Dreiländersee und NSG Oelemars  zum Dinkelradweg.\nhttps://touren-termine
 .adfc.de/radveranstaltung/174007-von-ochtrup-nach-gronau-zum-dinkelradweg
DTEND:20260530T150000Z
DTSTAMP:20260421T153421Z
DTSTART:20260530T080000Z
LOCATION:Beethovenstraße 1\, 48607 Ochtrup
SEQUENCE:0
SUMMARY:Von Ochtrup nach Gronau zum Dinkelradweg
UID:5b6f3176-bbe2-41b2-a5b6-b5b492ce2289
URL:https://touren-termine.adfc.de/radveranstaltung/174007-von-ochtrup-nac
 h-gronau-zum-dinkelradweg
END:VEVENT
END:VCALENDAR
