BEGIN:VCALENDAR
PRODID:-//github.com/rianjs/ical.net//NONSGML ical.net 4.0//EN
VERSION:2.0
BEGIN:VEVENT
DESCRIPTION:Sportliche Tagestour für Teilnehmer*innen mit guter Kondition\
 , die gerne längere Strecken bewältigen von ca. 60 -70 km.\nMax. 25 Teiln
 ehmer\, Anmeldung erforderlich!\nhttps://touren-termine.adfc.de/radverans
 taltung/107609-mittwochserlebnistour-leverkusen
DTEND:20240612T140000Z
DTSTAMP:20260421T120759Z
DTSTART:20240612T080000Z
LOCATION:Lindenplatz (Schlebusch)\, 51375 Leverkusen
SEQUENCE:0
SUMMARY:Mittwochserlebnistour Leverkusen
UID:620963d4-e713-4853-b4c7-4e5f6e545ee0
URL:https://touren-termine.adfc.de/radveranstaltung/107609-mittwochserlebn
 istour-leverkusen
END:VEVENT
END:VCALENDAR
