BEGIN:VCALENDAR
PRODID:-//github.com/rianjs/ical.net//NONSGML ical.net 4.0//EN
VERSION:2.0
BEGIN:VEVENT
DESCRIPTION:Linksrheinisch geht's über Radwege und ruhige Nebenstraßen dur
 ch Köln bis zum Heumarkt. Pause im Augustiner Brauhaus. Zurück rechtsrhei
 nisch.\nhttps://touren-termine.adfc.de/radveranstaltung/186476-augustiner
 -edelstoff-am-rhein
DTEND:20260923T150000Z
DTSTAMP:20260419T155001Z
DTSTART:20260923T080000Z
LOCATION:Tannenbergstraße\, unter der Stelzenautobahn\, 51373 Leverkusen
SEQUENCE:0
SUMMARY:Augustiner Edelstoff am Rhein
UID:576f5fea-139b-4694-8280-ab6c7141052d
URL:https://touren-termine.adfc.de/radveranstaltung/186476-augustiner-edel
 stoff-am-rhein
END:VEVENT
END:VCALENDAR
