BEGIN:VCALENDAR
PRODID:-//github.com/rianjs/ical.net//NONSGML ical.net 4.0//EN
VERSION:2.0
BEGIN:VEVENT
DESCRIPTION:Wochenendtour\nhttps://touren-termine.adfc.de/radveranstaltung
 /145961-wochenendtour-nach-zuidlarennl
DTEND:20250831T170000Z
DTSTAMP:20260421T102341Z
DTSTART:20250829T080000Z
LOCATION:Am Dwarstief 16\, 26826 Weener
SEQUENCE:0
SUMMARY:Wochenendtour nach Zuidlaren/NL
UID:062143d3-7605-4d52-a5fd-bf576bc27d7d
URL:https://touren-termine.adfc.de/radveranstaltung/145961-wochenendtour-n
 ach-zuidlarennl
END:VEVENT
END:VCALENDAR
