BEGIN:VCALENDAR
PRODID:-//github.com/rianjs/ical.net//NONSGML ical.net 4.0//EN
VERSION:2.0
BEGIN:VEVENT
DESCRIPTION:Diesmal eine Demonstration zu Fuß für sicheren Verkehr auf der
  Marienfelder Allee. Fahrräder können mitgeschoben werden!\nOrganisiert v
 om ADFC Tempelhof zusammen mit dem "Bündnis Marienfelder Allee".\nhttps:/
 /touren-termine.adfc.de/radveranstaltung/169806-wir-wollen-sicheren-verke
 hr-in-marienfelde
DTEND:20250816T103000Z
DTSTAMP:20260424T050702Z
DTSTART:20250816T090000Z
LOCATION:S-Bhf. Marienfelde\, Kiepertplatz\, 12277 Berlin
SEQUENCE:0
SUMMARY:Wir wollen sicheren Verkehr in Marienfelde
UID:757e501b-bb5b-4d56-934f-21f34de18c87
URL:https://touren-termine.adfc.de/radveranstaltung/169806-wir-wollen-sich
 eren-verkehr-in-marienfelde
END:VEVENT
END:VCALENDAR
