BEGIN:VCALENDAR
PRODID:-//github.com/rianjs/ical.net//NONSGML ical.net 4.0//EN
VERSION:2.0
BEGIN:VEVENT
DESCRIPTION:Erneuerbare Energien sollen in Zukunft die Energiesicherheit i
 n Deutschland bedeuten - Mausdorf hat es schon realisiert.\nhttps://toure
 n-termine.adfc.de/radveranstaltung/115757-energiedorf-mausdorf
DTEND:20240707T150000Z
DTSTAMP:20260421T162210Z
DTSTART:20240707T080000Z
LOCATION:Damaschkestraße 129\, 91056 Erlangen
SEQUENCE:0
SUMMARY:Energiedorf Mausdorf
UID:d8fd8deb-7364-43eb-8a3f-548fb607090c
URL:https://touren-termine.adfc.de/radveranstaltung/115757-energiedorf-mau
 sdorf
END:VEVENT
END:VCALENDAR
