BEGIN:VCALENDAR
PRODID:-//github.com/rianjs/ical.net//NONSGML ical.net 4.0//EN
VERSION:2.0
BEGIN:VEVENT
DESCRIPTION:Tagestour\nhttps://touren-termine.adfc.de/radveranstaltung/145
 926-tagestour-friesland
DTEND:20250622T160000Z
DTSTAMP:20260421T100926Z
DTSTART:20250622T080000Z
LOCATION:Ladestraße 10\, (Parkplatz Nah und Gut)\, Neuenburg\, 26340 Zetel
SEQUENCE:0
SUMMARY:Tagestour Friesland
UID:7aea78c1-d14b-4bff-b9c7-e4880cb957cf
URL:https://touren-termine.adfc.de/radveranstaltung/145926-tagestour-fries
 land
END:VEVENT
END:VCALENDAR
